BEGIN:VCALENDAR
VERSION:2.0
PRODID:-//Ultima Online - ECPv5.16.4.1//NONSGML v1.0//EN
CALSCALE:GREGORIAN
METHOD:PUBLISH
X-WR-CALNAME:Ultima Online
X-ORIGINAL-URL:https://uo.com
X-WR-CALDESC:Events for Ultima Online
BEGIN:VTIMEZONE
TZID:America/New_York
BEGIN:DAYLIGHT
TZOFFSETFROM:-0500
TZOFFSETTO:-0400
TZNAME:EDT
DTSTART:20180311T070000
END:DAYLIGHT
BEGIN:STANDARD
TZOFFSETFROM:-0400
TZOFFSETTO:-0500
TZNAME:EST
DTSTART:20181104T060000
END:STANDARD
END:VTIMEZONE
BEGIN:VEVENT
DTSTART;TZID=America/New_York:20181025T200000
DTEND;TZID=America/New_York:20181025T210000
DTSTAMP:20260421T091136
CREATED:20181013T202340Z
LAST-MODIFIED:20181013T202613Z
UID:17975-1540497600-1540501200@uo.com
SUMMARY:Legends - The Dead Speak [RP]
DESCRIPTION:On Thursday\, October 25th at 8:00 PM EST\, meet at the Rangers Guild Hall of Skara Brae.\nNote: This event will have light combat\, heavy roleplay and no reward. There will also be promotions available for enlisted rangers.
URL:https://uo.com/event/10-25-the-dead-speak-rp/
LOCATION:Legends
CATEGORIES:EM Event
END:VEVENT
END:VCALENDAR