BEGIN:VCALENDAR
VERSION:2.0
PRODID:-//Ultima Online - ECPv5.16.4.1//NONSGML v1.0//EN
CALSCALE:GREGORIAN
METHOD:PUBLISH
X-WR-CALNAME:Ultima Online
X-ORIGINAL-URL:https://uo.com
X-WR-CALDESC:Events for Ultima Online
BEGIN:VTIMEZONE
TZID:America/Chicago
BEGIN:DAYLIGHT
TZOFFSETFROM:-0600
TZOFFSETTO:-0500
TZNAME:CDT
DTSTART:20160313T080000
END:DAYLIGHT
BEGIN:STANDARD
TZOFFSETFROM:-0500
TZOFFSETTO:-0600
TZNAME:CST
DTSTART:20161106T070000
END:STANDARD
END:VTIMEZONE
BEGIN:VEVENT
DTSTART;TZID=America/Chicago:20160116T200000
DTEND;TZID=America/Chicago:20160116T200000
DTSTAMP:20260422T040341
CREATED:20160111T224718Z
LAST-MODIFIED:20160111T224718Z
UID:8631-1452974400-1452974400@uo.com
SUMMARY:Alice in Moonglow
DESCRIPTION:A student in the Lyceum got a little over excited while reading Alice in Wonderland and decided to bring Alice to life! Unfortunately she let everyone out of the book and now they’ve scattered all over Verity isle and she cannot figure out how to send them back!
URL:https://uo.com/event/alice-in-moonglow/
LOCATION:Great Lakes
CATEGORIES:Player Event
END:VEVENT
END:VCALENDAR