BEGIN:VCALENDAR
VERSION:2.0
PRODID:-//Ultima Online - ECPv5.16.4.1//NONSGML v1.0//EN
CALSCALE:GREGORIAN
METHOD:PUBLISH
X-WR-CALNAME:Ultima Online
X-ORIGINAL-URL:https://uo.com
X-WR-CALDESC:Events for Ultima Online
BEGIN:VTIMEZONE
TZID:Asia/Tokyo
BEGIN:STANDARD
TZOFFSETFROM:+0900
TZOFFSETTO:+0900
TZNAME:JST
DTSTART:20180101T000000
END:STANDARD
END:VTIMEZONE
BEGIN:VEVENT
DTSTART;TZID=Asia/Tokyo:20181123T203000
DTEND;TZID=Asia/Tokyo:20181125T230000
DTSTAMP:20260421T073748
CREATED:20181106T125458Z
LAST-MODIFIED:20181106T125458Z
UID:18193-1543005000-1543186800@uo.com
SUMMARY:All Japanese Shards - 21st Live Event "The Sage Humbolt's Wish"
DESCRIPTION:*Meet at Britain Commons \n11/23（Fri）\n———–\n21:00～ Izumo\n22:00～ Mugen \n11/24（Sat）\n———–\n20:30～ Wakoku\n21:15～ Hokuto\n22:00～ Mizuho \n11/25（Sun）\n———–\n20:30～ Asuka\n21:15～ Sakura\n22:00～ Yamato
URL:https://uo.com/event/all-japanese-shards-21st-live-event-the-sage-humbolts-wish/
LOCATION:Britain Commons
CATEGORIES:EM Event
END:VEVENT
END:VCALENDAR