BEGIN:VCALENDAR
VERSION:2.0
PRODID:-//Ultima Online - ECPv5.16.4.1//NONSGML v1.0//EN
CALSCALE:GREGORIAN
METHOD:PUBLISH
X-WR-CALNAME:Ultima Online
X-ORIGINAL-URL:https://uo.com
X-WR-CALDESC:Events for Ultima Online
BEGIN:VTIMEZONE
TZID:Asia/Seoul
BEGIN:STANDARD
TZOFFSETFROM:+0900
TZOFFSETTO:+0900
TZNAME:KST
DTSTART:20230101T000000
END:STANDARD
END:VTIMEZONE
BEGIN:VEVENT
DTSTART;TZID=Asia/Seoul:20230128T210000
DTEND;TZID=Asia/Seoul:20230128T220000
DTSTAMP:20260423T065357
CREATED:20230126T212806Z
LAST-MODIFIED:20230126T212821Z
UID:29032-1674939600-1674943200@uo.com
SUMMARY:Arirang Archer Contest 2023
DESCRIPTION:Meet at Britain EM Hall
URL:https://uo.com/event/arirang-archer-contest-202/
LOCATION:Arirang EM Hall
CATEGORIES:EM Event
END:VEVENT
END:VCALENDAR