BEGIN:VCALENDAR
VERSION:2.0
PRODID:-//Ultima Online - ECPv5.16.4.1//NONSGML v1.0//EN
CALSCALE:GREGORIAN
METHOD:PUBLISH
X-WR-CALNAME:Ultima Online
X-ORIGINAL-URL:https://uo.com
X-WR-CALDESC:Events for Ultima Online
BEGIN:VTIMEZONE
TZID:Asia/Seoul
BEGIN:STANDARD
TZOFFSETFROM:+0900
TZOFFSETTO:+0900
TZNAME:KST
DTSTART:20240101T000000
END:STANDARD
END:VTIMEZONE
BEGIN:VEVENT
DTSTART;TZID=Asia/Seoul:20240930T200000
DTEND;TZID=Asia/Seoul:20240930T210000
DTSTAMP:20260424T021808
CREATED:20240924T001707Z
LAST-MODIFIED:20240924T001707Z
UID:32698-1727726400-1727730000@uo.com
SUMMARY:Arirang-Autumn Knowledge Quiz Contest
DESCRIPTION:Autumn Knowledge Quiz Contest \nMeet at Britain EM Hall  8pm KOR/8pm JPN \n  \nFor more information visit website listed below
URL:https://uo.com/event/arirang-autumn-knowledge-quiz-contest/
LOCATION:Formosa Britain EM Hall
CATEGORIES:EM Event
END:VEVENT
END:VCALENDAR