BEGIN:VCALENDAR
VERSION:2.0
PRODID:-//Ultima Online - ECPv5.16.4.1//NONSGML v1.0//EN
CALSCALE:GREGORIAN
METHOD:PUBLISH
X-WR-CALNAME:Ultima Online
X-ORIGINAL-URL:https://uo.com
X-WR-CALDESC:Events for Ultima Online
BEGIN:VTIMEZONE
TZID:Asia/Seoul
BEGIN:STANDARD
TZOFFSETFROM:+0900
TZOFFSETTO:+0900
TZNAME:KST
DTSTART:20240101T000000
END:STANDARD
END:VTIMEZONE
BEGIN:VEVENT
DTSTART;TZID=Asia/Seoul:20240428T220000
DTEND;TZID=Asia/Seoul:20240428T230000
DTSTAMP:20260421T140401
CREATED:20240421T154322Z
LAST-MODIFIED:20240421T155258Z
UID:31721-1714341600-1714345200@uo.com
SUMMARY:Arirang Chicken Fight Game
DESCRIPTION:Arirang Chicken Fight Game on April 28th Sunday at Britain EM Hall 10pm KOR/22:00 JPN. Please bring a bonded chicken for the event !
URL:https://uo.com/event/arirang-chicken-fight-game/
LOCATION:Arirang EM Hall
CATEGORIES:Competition,EM Event
END:VEVENT
END:VCALENDAR