BEGIN:VCALENDAR
VERSION:2.0
PRODID:-//Ultima Online - ECPv5.16.4.1//NONSGML v1.0//EN
CALSCALE:GREGORIAN
METHOD:PUBLISH
X-WR-CALNAME:Ultima Online
X-ORIGINAL-URL:https://uo.com
X-WR-CALDESC:Events for Ultima Online
BEGIN:VTIMEZONE
TZID:Asia/Seoul
BEGIN:STANDARD
TZOFFSETFROM:+0900
TZOFFSETTO:+0900
TZNAME:KST
DTSTART:20230101T000000
END:STANDARD
END:VTIMEZONE
BEGIN:VEVENT
DTSTART;TZID=Asia/Seoul:20230325T220000
DTEND;TZID=Asia/Seoul:20230325T230000
DTSTAMP:20260422T192701
CREATED:20230319T223239Z
LAST-MODIFIED:20230319T223239Z
UID:29419-1679781600-1679785200@uo.com
SUMMARY:Arirang Dungeon Run Game Event
DESCRIPTION:Meet at Britain EM Hall at 10pm KOR/22:00 JPN
URL:https://uo.com/event/arirang-dungeon-run-game-event/
LOCATION:Arirang EM Hall
CATEGORIES:EM Event
END:VEVENT
END:VCALENDAR