BEGIN:VCALENDAR
VERSION:2.0
PRODID:-//Ultima Online - ECPv5.16.4.1//NONSGML v1.0//EN
CALSCALE:GREGORIAN
METHOD:PUBLISH
X-WR-CALNAME:Ultima Online
X-ORIGINAL-URL:https://uo.com
X-WR-CALDESC:Events for Ultima Online
BEGIN:VTIMEZONE
TZID:Asia/Seoul
BEGIN:STANDARD
TZOFFSETFROM:+0900
TZOFFSETTO:+0900
TZNAME:KST
DTSTART:20210101T000000
END:STANDARD
END:VTIMEZONE
BEGIN:VEVENT
DTSTART;TZID=Asia/Seoul:20211226T230000
DTEND;TZID=Asia/Seoul:20211226T230000
DTSTAMP:20260419T170729
CREATED:20211217T014844Z
LAST-MODIFIED:20211224T130257Z
UID:26501-1640559600-1640559600@uo.com
SUMMARY:Arirang - Frosty Xmas Event
DESCRIPTION:Time: 2021/12/24 11:00PM KST | 23:00 JPT \nMeeting Place: Britain EM Hall \n**Event has been postponed due to server maintenence**
URL:https://uo.com/event/arirang-frosty-xmas-event/
LOCATION:Arirang
CATEGORIES:EM Event
END:VEVENT
END:VCALENDAR