BEGIN:VCALENDAR
VERSION:2.0
PRODID:-//Ultima Online - ECPv5.16.4.1//NONSGML v1.0//EN
CALSCALE:GREGORIAN
METHOD:PUBLISH
X-WR-CALNAME:Ultima Online
X-ORIGINAL-URL:https://uo.com
X-WR-CALDESC:Events for Ultima Online
BEGIN:VTIMEZONE
TZID:Asia/Seoul
BEGIN:STANDARD
TZOFFSETFROM:+0900
TZOFFSETTO:+0900
TZNAME:KST
DTSTART:20240101T000000
END:STANDARD
END:VTIMEZONE
BEGIN:VEVENT
DTSTART;TZID=Asia/Seoul:20240630T210000
DTEND;TZID=Asia/Seoul:20240630T215000
DTSTAMP:20260422T195315
CREATED:20240624T224652Z
LAST-MODIFIED:20240624T224652Z
UID:32084-1719781200-1719784200@uo.com
SUMMARY:Arirang Mature Dragon Event
DESCRIPTION:Arirang Mature Dragon Event on 30th June Sunday at 9pm KOR/21:00 JPN at Britain EM Hall
URL:https://uo.com/event/arirang-mature-dragon-event/
LOCATION:Arirang EM Hall
CATEGORIES:EM Event
END:VEVENT
END:VCALENDAR