BEGIN:VCALENDAR
VERSION:2.0
PRODID:-//Ultima Online - ECPv5.16.4.1//NONSGML v1.0//EN
CALSCALE:GREGORIAN
METHOD:PUBLISH
X-WR-CALNAME:Ultima Online
X-ORIGINAL-URL:https://uo.com
X-WR-CALDESC:Events for Ultima Online
BEGIN:VTIMEZONE
TZID:Asia/Seoul
BEGIN:STANDARD
TZOFFSETFROM:+0900
TZOFFSETTO:+0900
TZNAME:KST
DTSTART:20210101T000000
END:STANDARD
END:VTIMEZONE
BEGIN:VEVENT
DTSTART;TZID=Asia/Seoul:20210925T230000
DTEND;TZID=Asia/Seoul:20210925T235500
DTSTAMP:20260424T115612
CREATED:20210912T065324Z
LAST-MODIFIED:20210912T065324Z
UID:25942-1632610800-1632614100@uo.com
SUMMARY:Arirang Mid Autumn Baker Event
DESCRIPTION:Arirang Mid Autumn Baker Event on 25th September Saturday at 11pm KOR/23:00 JPN at Britain EM Hall
URL:https://uo.com/event/arirang-mid-autumn-baker-event/
LOCATION:Arirang EM Hall
CATEGORIES:EM Event
END:VEVENT
END:VCALENDAR