BEGIN:VCALENDAR
VERSION:2.0
PRODID:-//Ultima Online - ECPv5.16.4.1//NONSGML v1.0//EN
CALSCALE:GREGORIAN
METHOD:PUBLISH
X-WR-CALNAME:Ultima Online
X-ORIGINAL-URL:https://uo.com
X-WR-CALDESC:Events for Ultima Online
BEGIN:VTIMEZONE
TZID:Asia/Seoul
BEGIN:STANDARD
TZOFFSETFROM:+0900
TZOFFSETTO:+0900
TZNAME:KST
DTSTART:20220101T000000
END:STANDARD
END:VTIMEZONE
BEGIN:VEVENT
DTSTART;TZID=Asia/Seoul:20221224T210000
DTEND;TZID=Asia/Seoul:20221224T220000
DTSTAMP:20260421T042027
CREATED:20221219T000732Z
LAST-MODIFIED:20221219T000732Z
UID:28751-1671915600-1671919200@uo.com
SUMMARY:Arirang Season Of Joy Xmas Event
DESCRIPTION:Meet at Britain EM Hall on 24th Dec Saturday for the Xmas event! \n9pm KOR/  21:00 JPN / 8pm TW
URL:https://uo.com/event/arirang-season-of-joy-xmas-event/
LOCATION:Arirang EM Hall
CATEGORIES:EM Event
END:VEVENT
END:VCALENDAR