BEGIN:VCALENDAR
VERSION:2.0
PRODID:-//Ultima Online - ECPv5.16.4.1//NONSGML v1.0//EN
CALSCALE:GREGORIAN
METHOD:PUBLISH
X-WR-CALNAME:Ultima Online
X-ORIGINAL-URL:https://uo.com
X-WR-CALDESC:Events for Ultima Online
BEGIN:VTIMEZONE
TZID:America/New_York
BEGIN:DAYLIGHT
TZOFFSETFROM:-0500
TZOFFSETTO:-0400
TZNAME:EDT
DTSTART:20260308T070000
END:DAYLIGHT
BEGIN:STANDARD
TZOFFSETFROM:-0400
TZOFFSETTO:-0500
TZNAME:EST
DTSTART:20261101T060000
END:STANDARD
END:VTIMEZONE
BEGIN:VEVENT
DTSTART;TZID=America/New_York:20260323T210000
DTEND;TZID=America/New_York:20260323T210000
DTSTAMP:20260424T221908
CREATED:20260310T011726Z
LAST-MODIFIED:20260310T011726Z
UID:37104-1774299600-1774299600@uo.com
SUMMARY:Atl - Lig na Paiste
DESCRIPTION:Gather in the Britain Hall for instructions.
URL:https://uo.com/event/atl-lig-na-paiste/
LOCATION:EM Counselor Hall (Britain)
CATEGORIES:EM Event
END:VEVENT
END:VCALENDAR