BEGIN:VCALENDAR
VERSION:2.0
PRODID:-//Ultima Online - ECPv5.16.4.1//NONSGML v1.0//EN
CALSCALE:GREGORIAN
METHOD:PUBLISH
X-WR-CALNAME:Ultima Online
X-ORIGINAL-URL:https://uo.com
X-WR-CALDESC:Events for Ultima Online
BEGIN:VTIMEZONE
TZID:America/New_York
BEGIN:DAYLIGHT
TZOFFSETFROM:-0500
TZOFFSETTO:-0400
TZNAME:EDT
DTSTART:20210314T070000
END:DAYLIGHT
BEGIN:STANDARD
TZOFFSETFROM:-0400
TZOFFSETTO:-0500
TZNAME:EST
DTSTART:20211107T060000
END:STANDARD
END:VTIMEZONE
BEGIN:VEVENT
DTSTART;TZID=America/New_York:20210715T210000
DTEND;TZID=America/New_York:20210715T220000
DTSTAMP:20260425T112008
CREATED:20210629T224056Z
LAST-MODIFIED:20210629T224056Z
UID:25470-1626382800-1626386400@uo.com
SUMMARY:Atlantic - Golden Squid Returns
DESCRIPTION:Gather at Vesper Fisherman’s Docks for further details
URL:https://uo.com/event/atlantic-golden-squid-returns/
LOCATION:Vesper
CATEGORIES:EM Event
END:VEVENT
END:VCALENDAR