BEGIN:VCALENDAR
VERSION:2.0
PRODID:-//Ultima Online - ECPv5.16.4.1//NONSGML v1.0//EN
CALSCALE:GREGORIAN
METHOD:PUBLISH
X-WR-CALNAME:Ultima Online
X-ORIGINAL-URL:https://uo.com
X-WR-CALDESC:Events for Ultima Online
BEGIN:VTIMEZONE
TZID:America/New_York
BEGIN:DAYLIGHT
TZOFFSETFROM:-0500
TZOFFSETTO:-0400
TZNAME:EDT
DTSTART:20190310T070000
END:DAYLIGHT
BEGIN:STANDARD
TZOFFSETFROM:-0400
TZOFFSETTO:-0500
TZNAME:EST
DTSTART:20191103T060000
END:STANDARD
END:VTIMEZONE
BEGIN:VEVENT
DTSTART;VALUE=DATE:20190101
DTEND;VALUE=DATE:20190102
DTSTAMP:20260421T053428
CREATED:20190102T010137Z
LAST-MODIFIED:20190102T010137Z
UID:18659-1546300800-1546387199@uo.com
SUMMARY:Atlantic - January Fishing Tournament
DESCRIPTION:This months fishing contest we will have 2 different types of fish.  Zombie fish for those legendary fisherman and Great Barracuda for those who haven’t made it to legendary.  Check forums and facebook for more details.
URL:https://uo.com/event/atlantic-january-fishing-tournament/
CATEGORIES:EM Event
END:VEVENT
END:VCALENDAR