BEGIN:VCALENDAR
VERSION:2.0
PRODID:-//Ultima Online - ECPv5.16.4.1//NONSGML v1.0//EN
CALSCALE:GREGORIAN
METHOD:PUBLISH
X-WR-CALNAME:Ultima Online
X-ORIGINAL-URL:https://uo.com
X-WR-CALDESC:Events for Ultima Online
BEGIN:VTIMEZONE
TZID:America/New_York
BEGIN:DAYLIGHT
TZOFFSETFROM:-0500
TZOFFSETTO:-0400
TZNAME:EDT
DTSTART:20170312T070000
END:DAYLIGHT
BEGIN:STANDARD
TZOFFSETFROM:-0400
TZOFFSETTO:-0500
TZNAME:EST
DTSTART:20171105T060000
END:STANDARD
END:VTIMEZONE
BEGIN:VEVENT
DTSTART;VALUE=DATE:20170622
DTEND;VALUE=DATE:20170628
DTSTAMP:20260422T103010
CREATED:20170615T235111Z
LAST-MODIFIED:20170615T235111Z
UID:14047-1498089600-1498607999@uo.com
SUMMARY:Atlantic - "Prologue" Self Paced Questing
DESCRIPTION:
URL:https://uo.com/event/atlantic-prologue-self-paced-questing/
CATEGORIES:EM Event
END:VEVENT
END:VCALENDAR