BEGIN:VCALENDAR
VERSION:2.0
PRODID:-//Ultima Online - ECPv5.16.4.1//NONSGML v1.0//EN
CALSCALE:GREGORIAN
METHOD:PUBLISH
X-WR-CALNAME:Ultima Online
X-ORIGINAL-URL:https://uo.com
X-WR-CALDESC:Events for Ultima Online
BEGIN:VTIMEZONE
TZID:America/New_York
BEGIN:DAYLIGHT
TZOFFSETFROM:-0500
TZOFFSETTO:-0400
TZNAME:EDT
DTSTART:20230312T070000
END:DAYLIGHT
BEGIN:STANDARD
TZOFFSETFROM:-0400
TZOFFSETTO:-0500
TZNAME:EST
DTSTART:20231105T060000
END:STANDARD
END:VTIMEZONE
BEGIN:VEVENT
DTSTART;TZID=America/New_York:20230116T210000
DTEND;TZID=America/New_York:20230116T220000
DTSTAMP:20260423T052542
CREATED:20230111T160845Z
LAST-MODIFIED:20230111T234551Z
UID:28941-1673902800-1673906400@uo.com
SUMMARY:Atlantic - The Curious Crown
DESCRIPTION:King Blackthorn demands an accounting of His realm in the new year! Help the Crown on 1/16/23 at 9:00 EST. \nGates will be provided at WBB in Trammel\, Luna\, and New Haven Bank.
URL:https://uo.com/event/atlantic-the-curious-crown/
CATEGORIES:EM Event
END:VEVENT
END:VCALENDAR