BEGIN:VCALENDAR
VERSION:2.0
PRODID:-//Ultima Online - ECPv5.16.4.1//NONSGML v1.0//EN
CALSCALE:GREGORIAN
METHOD:PUBLISH
X-WR-CALNAME:Ultima Online
X-ORIGINAL-URL:https://uo.com
X-WR-CALDESC:Events for Ultima Online
BEGIN:VTIMEZONE
TZID:America/New_York
BEGIN:DAYLIGHT
TZOFFSETFROM:-0500
TZOFFSETTO:-0400
TZNAME:EDT
DTSTART:20170312T070000
END:DAYLIGHT
BEGIN:STANDARD
TZOFFSETFROM:-0400
TZOFFSETTO:-0500
TZNAME:EST
DTSTART:20171105T060000
END:STANDARD
END:VTIMEZONE
BEGIN:VEVENT
DTSTART;TZID=America/New_York:20170821T200000
DTEND;TZID=America/New_York:20170821T210000
DTSTAMP:20260422T103311
CREATED:20170820T224703Z
LAST-MODIFIED:20170820T224703Z
UID:14587-1503345600-1503349200@uo.com
SUMMARY:Atlantic - "The Nightmare and the Dreamer"
DESCRIPTION:
URL:https://uo.com/event/atlantic-the-nightmare-and-the-dreamer/
CATEGORIES:EM Event
END:VEVENT
END:VCALENDAR