BEGIN:VCALENDAR
VERSION:2.0
PRODID:-//Ultima Online - ECPv5.16.4.1//NONSGML v1.0//EN
CALSCALE:GREGORIAN
METHOD:PUBLISH
X-WR-CALNAME:Ultima Online
X-ORIGINAL-URL:https://uo.com
X-WR-CALDESC:Events for Ultima Online
BEGIN:VTIMEZONE
TZID:America/Los_Angeles
BEGIN:DAYLIGHT
TZOFFSETFROM:-0800
TZOFFSETTO:-0700
TZNAME:PDT
DTSTART:20160313T100000
END:DAYLIGHT
BEGIN:STANDARD
TZOFFSETFROM:-0700
TZOFFSETTO:-0800
TZNAME:PST
DTSTART:20161106T090000
END:STANDARD
END:VTIMEZONE
BEGIN:VEVENT
DTSTART;TZID=America/Los_Angeles:20161228T190000
DTEND;TZID=America/Los_Angeles:20161228T200000
DTSTAMP:20260421T055355
CREATED:20161209T014234Z
LAST-MODIFIED:20161209T014234Z
UID:12401-1482951600-1482955200@uo.com
SUMMARY:Baja - December Pet Battles
DESCRIPTION:December’s pet is the Great Hart; or Reindeer if you will. Meet at the New Haven Arena!
URL:https://uo.com/event/baja-december-pet-battles/
LOCATION:New Haven Arena
CATEGORIES:EM Event
END:VEVENT
END:VCALENDAR