BEGIN:VCALENDAR
VERSION:2.0
PRODID:-//Ultima Online - ECPv5.16.4.1//NONSGML v1.0//EN
CALSCALE:GREGORIAN
METHOD:PUBLISH
X-WR-CALNAME:Ultima Online
X-ORIGINAL-URL:https://uo.com
X-WR-CALDESC:Events for Ultima Online
BEGIN:VTIMEZONE
TZID:America/Los_Angeles
BEGIN:DAYLIGHT
TZOFFSETFROM:-0800
TZOFFSETTO:-0700
TZNAME:PDT
DTSTART:20230312T100000
END:DAYLIGHT
BEGIN:STANDARD
TZOFFSETFROM:-0700
TZOFFSETTO:-0800
TZNAME:PST
DTSTART:20231105T090000
END:STANDARD
END:VTIMEZONE
BEGIN:VEVENT
DTSTART;TZID=America/Los_Angeles:20231007T190000
DTEND;TZID=America/Los_Angeles:20231007T190000
DTSTAMP:20260422T063716
CREATED:20230929T202144Z
LAST-MODIFIED:20230929T202144Z
UID:30424-1696705200-1696705200@uo.com
SUMMARY:Baja- Fireside Chat
DESCRIPTION:Fireside chat!  Come out to discuss\, enjoy and relax! \nGate provide to location!
URL:https://uo.com/event/baja-fireside-chat-6/
CATEGORIES:EM Event
END:VEVENT
END:VCALENDAR