BEGIN:VCALENDAR
VERSION:2.0
PRODID:-//Ultima Online - ECPv5.16.4.1//NONSGML v1.0//EN
CALSCALE:GREGORIAN
METHOD:PUBLISH
X-WR-CALNAME:Ultima Online
X-ORIGINAL-URL:https://uo.com
X-WR-CALDESC:Events for Ultima Online
BEGIN:VTIMEZONE
TZID:America/Los_Angeles
BEGIN:DAYLIGHT
TZOFFSETFROM:-0800
TZOFFSETTO:-0700
TZNAME:PDT
DTSTART:20240310T100000
END:DAYLIGHT
BEGIN:STANDARD
TZOFFSETFROM:-0700
TZOFFSETTO:-0800
TZNAME:PST
DTSTART:20241103T090000
END:STANDARD
END:VTIMEZONE
BEGIN:VEVENT
DTSTART;TZID=America/Los_Angeles:20240511T190000
DTEND;TZID=America/Los_Angeles:20240511T190000
DTSTAMP:20260423T002906
CREATED:20240502T013758Z
LAST-MODIFIED:20240502T013759Z
UID:31779-1715454000-1715454000@uo.com
SUMMARY:Baja- Governors Meeting
DESCRIPTION:Governors Meeting – Counsel Room in Castle Blackthorn \nAll Citizens invited to attend!
URL:https://uo.com/event/baja-governors-meeting-47/
CATEGORIES:EM Event
END:VEVENT
END:VCALENDAR