BEGIN:VCALENDAR
VERSION:2.0
PRODID:-//Ultima Online - ECPv5.16.4.1//NONSGML v1.0//EN
CALSCALE:GREGORIAN
METHOD:PUBLISH
X-WR-CALNAME:Ultima Online
X-ORIGINAL-URL:https://uo.com
X-WR-CALDESC:Events for Ultima Online
BEGIN:VTIMEZONE
TZID:America/Los_Angeles
BEGIN:DAYLIGHT
TZOFFSETFROM:-0800
TZOFFSETTO:-0700
TZNAME:PDT
DTSTART:20170312T100000
END:DAYLIGHT
BEGIN:STANDARD
TZOFFSETFROM:-0700
TZOFFSETTO:-0800
TZNAME:PST
DTSTART:20171105T090000
END:STANDARD
END:VTIMEZONE
BEGIN:VEVENT
DTSTART;TZID=America/Los_Angeles:20171124T190000
DTEND;TZID=America/Los_Angeles:20171124T210000
DTSTAMP:20260421T174223
CREATED:20171113T032715Z
LAST-MODIFIED:20171113T032715Z
UID:15243-1511550000-1511557200@uo.com
SUMMARY:Baja - Governors Meeting And Meet & Greet
DESCRIPTION:King Blackthorn invites all to attend November’s Governor Meeting! Immediately following the meeting\, please join EM Obsidian for a Meet & Greet and feast in the King’s banquet room!
URL:https://uo.com/event/baja-governors-meeting-and-meet-greet/
LOCATION:King Blackthorns Castle
CATEGORIES:EM Event
END:VEVENT
END:VCALENDAR