BEGIN:VCALENDAR
VERSION:2.0
PRODID:-//Ultima Online - ECPv5.16.4.1//NONSGML v1.0//EN
CALSCALE:GREGORIAN
METHOD:PUBLISH
X-WR-CALNAME:Ultima Online
X-ORIGINAL-URL:https://uo.com
X-WR-CALDESC:Events for Ultima Online
BEGIN:VTIMEZONE
TZID:America/Los_Angeles
BEGIN:DAYLIGHT
TZOFFSETFROM:-0800
TZOFFSETTO:-0700
TZNAME:PDT
DTSTART:20170312T100000
END:DAYLIGHT
BEGIN:STANDARD
TZOFFSETFROM:-0700
TZOFFSETTO:-0800
TZNAME:PST
DTSTART:20171105T090000
END:STANDARD
END:VTIMEZONE
BEGIN:VEVENT
DTSTART;TZID=America/Los_Angeles:20171129T190000
DTEND;TZID=America/Los_Angeles:20171129T200000
DTSTAMP:20260422T020138
CREATED:20171120T025438Z
LAST-MODIFIED:20171120T025438Z
UID:15287-1511982000-1511985600@uo.com
SUMMARY:Baja - Madame Velorina
DESCRIPTION:With the assistance of the Royal Guard\, it has been determined that Madame Velorina is the prime suspect in the attempted assassination of the Governors! Vladimir the Ranger requests assistance with placing her under arrest!
URL:https://uo.com/event/baja-madame-velorina/
LOCATION:Meet At Counselor Hall
CATEGORIES:EM Event
END:VEVENT
END:VCALENDAR