BEGIN:VCALENDAR
VERSION:2.0
PRODID:-//Ultima Online - ECPv5.16.4.1//NONSGML v1.0//EN
CALSCALE:GREGORIAN
METHOD:PUBLISH
X-WR-CALNAME:Ultima Online
X-ORIGINAL-URL:https://uo.com
X-WR-CALDESC:Events for Ultima Online
BEGIN:VTIMEZONE
TZID:America/New_York
BEGIN:DAYLIGHT
TZOFFSETFROM:-0500
TZOFFSETTO:-0400
TZNAME:EDT
DTSTART:20230312T070000
END:DAYLIGHT
BEGIN:STANDARD
TZOFFSETFROM:-0400
TZOFFSETTO:-0500
TZNAME:EST
DTSTART:20231105T060000
END:STANDARD
END:VTIMEZONE
BEGIN:VEVENT
DTSTART;TZID=America/New_York:20230128T220000
DTEND;TZID=America/New_York:20230128T230000
DTSTAMP:20260423T101218
CREATED:20230106T215157Z
LAST-MODIFIED:20230117T215522Z
UID:28913-1674943200-1674946800@uo.com
SUMMARY:Baja- Soul Fragments- The wind is in your Soul
DESCRIPTION:Meet at West Britain Bank!
URL:https://uo.com/event/baja-soul-fragments-the-wind-is-in-your-soul/
CATEGORIES:EM Event
END:VEVENT
END:VCALENDAR