BEGIN:VCALENDAR
VERSION:2.0
PRODID:-//Ultima Online - ECPv5.16.4.1//NONSGML v1.0//EN
CALSCALE:GREGORIAN
METHOD:PUBLISH
X-WR-CALNAME:Ultima Online
X-ORIGINAL-URL:https://uo.com
X-WR-CALDESC:Events for Ultima Online
BEGIN:VTIMEZONE
TZID:Asia/Seoul
BEGIN:STANDARD
TZOFFSETFROM:+0900
TZOFFSETTO:+0900
TZNAME:KST
DTSTART:20180101T000000
END:STANDARD
END:VTIMEZONE
BEGIN:VEVENT
DTSTART;TZID=Asia/Seoul:20181028T220000
DTEND;TZID=Asia/Seoul:20181028T233000
DTSTAMP:20260421T104434
CREATED:20181018T180929Z
LAST-MODIFIED:20181018T180929Z
UID:18014-1540764000-1540769400@uo.com
SUMMARY:Balhae Finale Anniversary Event
DESCRIPTION:This is a back to back shard EM event Part 1 for balhae . Once balhae event ended will proceed to Formosa Event for part 2 . Player are recommend to wear their Anniversary dress up for the event concert later.
URL:https://uo.com/event/balhae-finale-anniversary-event/
LOCATION:Balhae EM Britain Hall
CATEGORIES:EM Event
END:VEVENT
END:VCALENDAR