BEGIN:VCALENDAR
VERSION:2.0
PRODID:-//Ultima Online - ECPv5.16.4.1//NONSGML v1.0//EN
CALSCALE:GREGORIAN
METHOD:PUBLISH
X-WR-CALNAME:Ultima Online
X-ORIGINAL-URL:https://uo.com
X-WR-CALDESC:Events for Ultima Online
BEGIN:VTIMEZONE
TZID:Asia/Seoul
BEGIN:STANDARD
TZOFFSETFROM:+0900
TZOFFSETTO:+0900
TZNAME:KST
DTSTART:20190101T000000
END:STANDARD
END:VTIMEZONE
BEGIN:VEVENT
DTSTART;TZID=Asia/Seoul:20190127T220000
DTEND;TZID=Asia/Seoul:20190127T233000
DTSTAMP:20260421T053354
CREATED:20190120T190444Z
LAST-MODIFIED:20190120T190444Z
UID:18797-1548626400-1548631800@uo.com
SUMMARY:Balhae Lunar New Year 2019 Event
DESCRIPTION:EM Britain Hall \nPlease Check Balhae Website for more information. \nhttp://balhae.uoem.net/
URL:https://uo.com/event/balhae-lunar-new-year-2019-event/
LOCATION:Balhae EM Britain Hall
CATEGORIES:EM Event
END:VEVENT
END:VCALENDAR