BEGIN:VCALENDAR
VERSION:2.0
PRODID:-//Ultima Online - ECPv5.16.4.1//NONSGML v1.0//EN
CALSCALE:GREGORIAN
METHOD:PUBLISH
X-WR-CALNAME:Ultima Online
X-ORIGINAL-URL:https://uo.com
X-WR-CALDESC:Events for Ultima Online
BEGIN:VTIMEZONE
TZID:Asia/Seoul
BEGIN:STANDARD
TZOFFSETFROM:+0900
TZOFFSETTO:+0900
TZNAME:KST
DTSTART:20240101T000000
END:STANDARD
END:VTIMEZONE
BEGIN:VEVENT
DTSTART;TZID=Asia/Seoul:20240524T220000
DTEND;TZID=Asia/Seoul:20240524T230000
DTSTAMP:20260425T224706
CREATED:20240422T120840Z
LAST-MODIFIED:20240422T120840Z
UID:31742-1716588000-1716591600@uo.com
SUMMARY:Balhae - Seasonal | Stool Dragger
DESCRIPTION:Friday\, May 24th\, 10 PM KST (GMT+9)\nMeeting Place: Trammel\, Britain EM Hall\nStools are good furniture to sit on or put your feet on. But there’s more. Join the challenge\, win the game\, and become famous all around the realm!
URL:https://uo.com/event/balhae-seasonal-stool-dragger/
LOCATION:Balhae EM Britain Hall
CATEGORIES:EM Event
END:VEVENT
END:VCALENDAR