BEGIN:VCALENDAR
VERSION:2.0
PRODID:-//Ultima Online - ECPv5.16.4.1//NONSGML v1.0//EN
CALSCALE:GREGORIAN
METHOD:PUBLISH
X-WR-CALNAME:Ultima Online
X-ORIGINAL-URL:https://uo.com
X-WR-CALDESC:Events for Ultima Online
BEGIN:VTIMEZONE
TZID:Asia/Seoul
BEGIN:STANDARD
TZOFFSETFROM:+0900
TZOFFSETTO:+0900
TZNAME:KST
DTSTART:20220101T000000
END:STANDARD
END:VTIMEZONE
BEGIN:VEVENT
DTSTART;TZID=Asia/Seoul:20220805T200000
DTEND;TZID=Asia/Seoul:20220805T200000
DTSTAMP:20260424T124921
CREATED:20220724T055415Z
LAST-MODIFIED:20220724T055415Z
UID:27962-1659729600-1659729600@uo.com
SUMMARY:Balhae - SECRET | Rogue Agent
DESCRIPTION:Friday August 5th 08:00PM KST (GMT+9) \nMeeting Place: Trammel\, Britain EM Hall \nRoyal Guard and Royal Navy secured the New Haven without knowing why the magical barrier was disabled. Ryan Reed who led players\, however\, is now declared as a rogue agent who stole the objects and use them against the SECRET. Guildmaster Enrico Groves summoned players. \n**NOTE: \n\nPlease do not cast mass spells causing lag except for combat purpose. It causes too much lag to the others and EM as well to proceed the event scenario and may delay the event.\nPlease do not cast gate travel to anyone nearby that may lead the others accidentally get into. I’ve been witness someone who did on purpose multiple times\, and such action shall not be tolerated in future.\nIf EM witness inappropriate actions including above\, EM will deal with them; not just pause the event and warn them but also report to GMs to take care of.
URL:https://uo.com/event/balhae-secret-rogue-agent/
LOCATION:Balhae\, Korea\, Republic Of
CATEGORIES:EM Event
END:VEVENT
END:VCALENDAR