BEGIN:VCALENDAR
VERSION:2.0
PRODID:-//Ultima Online - ECPv5.16.4.1//NONSGML v1.0//EN
CALSCALE:GREGORIAN
METHOD:PUBLISH
X-WR-CALNAME:Ultima Online
X-ORIGINAL-URL:https://uo.com
X-WR-CALDESC:Events for Ultima Online
BEGIN:VTIMEZONE
TZID:Asia/Seoul
BEGIN:STANDARD
TZOFFSETFROM:+0900
TZOFFSETTO:+0900
TZNAME:KST
DTSTART:20230101T000000
END:STANDARD
END:VTIMEZONE
BEGIN:VEVENT
DTSTART;TZID=Asia/Seoul:20230127T210000
DTEND;TZID=Asia/Seoul:20230127T210000
DTSTAMP:20260423T100838
CREATED:20221221T133846Z
LAST-MODIFIED:20221221T134127Z
UID:28762-1674853200-1674853200@uo.com
SUMMARY:Balhae - Community Event | Yutnori
DESCRIPTION:Friday January 27th 09:00PM KST (GMT+9) \nMeeting Place: Trammel\, Britain EM Hall \nThe famous Yut game has return. Visit mini game to play and enjoy Korea traditional game of Yut! Even if you don’t know the rule\, don’t worry about it! It’s not difficult and there’s a wiki page you could see here(EN) and here (JP). Only difference between in UO is that the sticks are replaced to a dice!
URL:https://uo.com/event/balhae-yutnori/
LOCATION:Balhae EM Britain Hall
CATEGORIES:EM Event
END:VEVENT
END:VCALENDAR