BEGIN:VCALENDAR
VERSION:2.0
PRODID:-//Ultima Online - ECPv5.16.4.1//NONSGML v1.0//EN
CALSCALE:GREGORIAN
METHOD:PUBLISH
X-WR-CALNAME:Ultima Online
X-ORIGINAL-URL:https://uo.com
X-WR-CALDESC:Events for Ultima Online
BEGIN:VTIMEZONE
TZID:America/New_York
BEGIN:DAYLIGHT
TZOFFSETFROM:-0500
TZOFFSETTO:-0400
TZNAME:EDT
DTSTART:20230312T070000
END:DAYLIGHT
BEGIN:STANDARD
TZOFFSETFROM:-0400
TZOFFSETTO:-0500
TZNAME:EST
DTSTART:20231105T060000
END:STANDARD
END:VTIMEZONE
BEGIN:VEVENT
DTSTART;TZID=America/New_York:20230422T200000
DTEND;TZID=America/New_York:20230422T210000
DTSTAMP:20260422T143109
CREATED:20230410T232005Z
LAST-MODIFIED:20230410T232005Z
UID:29583-1682193600-1682197200@uo.com
SUMMARY:Catskills - Where The River Flows\, Part One
DESCRIPTION:Radim Bartos calls for aid confronting mysterious cultists!
URL:https://uo.com/event/catskills-where-the-river-flows-part-one/
LOCATION:Meet At Counselor Hall
CATEGORIES:EM Event
END:VEVENT
END:VCALENDAR