BEGIN:VCALENDAR
VERSION:2.0
PRODID:-//Ultima Online - ECPv5.16.4.1//NONSGML v1.0//EN
CALSCALE:GREGORIAN
METHOD:PUBLISH
X-WR-CALNAME:Ultima Online
X-ORIGINAL-URL:https://uo.com
X-WR-CALDESC:Events for Ultima Online
BEGIN:VTIMEZONE
TZID:America/New_York
BEGIN:DAYLIGHT
TZOFFSETFROM:-0500
TZOFFSETTO:-0400
TZNAME:EDT
DTSTART:20240310T070000
END:DAYLIGHT
BEGIN:STANDARD
TZOFFSETFROM:-0400
TZOFFSETTO:-0500
TZNAME:EST
DTSTART:20241103T060000
END:STANDARD
END:VTIMEZONE
BEGIN:VEVENT
DTSTART;TZID=America/New_York:20241129T210000
DTEND;TZID=America/New_York:20241129T220000
DTSTAMP:20260423T054847
CREATED:20241113T142712Z
LAST-MODIFIED:20241113T142712Z
UID:33446-1732914000-1732917600@uo.com
SUMMARY:Chesapeake - Birds Gone Wild!
DESCRIPTION:What’s up with the birds today? Gates will be provided at Brit and Luna Banks.
URL:https://uo.com/event/chesapeake-birds-gone-wild/
LOCATION:Chesapeake
CATEGORIES:EM Event
END:VEVENT
END:VCALENDAR