BEGIN:VCALENDAR
VERSION:2.0
PRODID:-//Ultima Online - ECPv5.16.4.1//NONSGML v1.0//EN
CALSCALE:GREGORIAN
METHOD:PUBLISH
X-WR-CALNAME:Ultima Online
X-ORIGINAL-URL:https://uo.com
X-WR-CALDESC:Events for Ultima Online
BEGIN:VTIMEZONE
TZID:America/New_York
BEGIN:DAYLIGHT
TZOFFSETFROM:-0500
TZOFFSETTO:-0400
TZNAME:EDT
DTSTART:20240310T070000
END:DAYLIGHT
BEGIN:STANDARD
TZOFFSETFROM:-0400
TZOFFSETTO:-0500
TZNAME:EST
DTSTART:20241103T060000
END:STANDARD
END:VTIMEZONE
BEGIN:VEVENT
DTSTART;TZID=America/New_York:20240522T210000
DTEND;TZID=America/New_York:20240522T220000
DTSTAMP:20260425T225649
CREATED:20240425T135919Z
LAST-MODIFIED:20240425T135919Z
UID:31769-1716411600-1716415200@uo.com
SUMMARY:Chesapeake - Do it for the plants!
DESCRIPTION:Meet at the RBG station to assist the plants in need and stop them from choking out our fair cities!\nGates at WBB and Luna for those that need it!
URL:https://uo.com/event/chesapeake-do-it-for-the-plants/
CATEGORIES:EM Event
END:VEVENT
END:VCALENDAR