BEGIN:VCALENDAR
VERSION:2.0
PRODID:-//Ultima Online - ECPv5.16.4.1//NONSGML v1.0//EN
CALSCALE:GREGORIAN
METHOD:PUBLISH
X-WR-CALNAME:Ultima Online
X-ORIGINAL-URL:https://uo.com
X-WR-CALDESC:Events for Ultima Online
BEGIN:VTIMEZONE
TZID:America/New_York
BEGIN:DAYLIGHT
TZOFFSETFROM:-0500
TZOFFSETTO:-0400
TZNAME:EDT
DTSTART:20240310T070000
END:DAYLIGHT
BEGIN:STANDARD
TZOFFSETFROM:-0400
TZOFFSETTO:-0500
TZNAME:EST
DTSTART:20241103T060000
END:STANDARD
END:VTIMEZONE
BEGIN:VEVENT
DTSTART;TZID=America/New_York:20240313T210000
DTEND;TZID=America/New_York:20240313T220000
DTSTAMP:20260421T154245
CREATED:20240228T160621Z
LAST-MODIFIED:20240228T160621Z
UID:31324-1710363600-1710367200@uo.com
SUMMARY:Chesapeake - No luck this time
DESCRIPTION:Join us at the HoC to assist our old friend O’Malley with a Leprechaun predicament. \nGates at WBB and Luna for those that need them.
URL:https://uo.com/event/chesapeake-no-luck-this-time/
CATEGORIES:EM Event
END:VEVENT
END:VCALENDAR