BEGIN:VCALENDAR
VERSION:2.0
PRODID:-//Ultima Online - ECPv5.16.4.1//NONSGML v1.0//EN
CALSCALE:GREGORIAN
METHOD:PUBLISH
X-WR-CALNAME:Ultima Online
X-ORIGINAL-URL:https://uo.com
X-WR-CALDESC:Events for Ultima Online
BEGIN:VTIMEZONE
TZID:America/New_York
BEGIN:DAYLIGHT
TZOFFSETFROM:-0500
TZOFFSETTO:-0400
TZNAME:EDT
DTSTART:20180311T070000
END:DAYLIGHT
BEGIN:STANDARD
TZOFFSETFROM:-0400
TZOFFSETTO:-0500
TZNAME:EST
DTSTART:20181104T060000
END:STANDARD
END:VTIMEZONE
BEGIN:VEVENT
DTSTART;TZID=America/New_York:20181114T210000
DTEND;TZID=America/New_York:20181114T220000
DTSTAMP:20260421T072310
CREATED:20181023T231921Z
LAST-MODIFIED:20181023T232115Z
UID:18040-1542229200-1542232800@uo.com
SUMMARY:Chesapeake - Storybook Sending
DESCRIPTION:Angelique from the RBG needs help following up on these strange new visitors scattered around Britannia. \nPlease be sure to head to the Guard Station just outside of Britain (West of the West Britain Bank) to help with this strange case. \nGates at WBB and Luna will be provided.
URL:https://uo.com/event/chesapeake-storybook-sending/
CATEGORIES:EM Event
END:VEVENT
END:VCALENDAR