BEGIN:VCALENDAR
VERSION:2.0
PRODID:-//Ultima Online - ECPv5.16.4.1//NONSGML v1.0//EN
CALSCALE:GREGORIAN
METHOD:PUBLISH
X-WR-CALNAME:Ultima Online
X-ORIGINAL-URL:https://uo.com
X-WR-CALDESC:Events for Ultima Online
BEGIN:VTIMEZONE
TZID:America/New_York
BEGIN:DAYLIGHT
TZOFFSETFROM:-0500
TZOFFSETTO:-0400
TZNAME:EDT
DTSTART:20260308T070000
END:DAYLIGHT
BEGIN:STANDARD
TZOFFSETFROM:-0400
TZOFFSETTO:-0500
TZNAME:EST
DTSTART:20261101T060000
END:STANDARD
END:VTIMEZONE
BEGIN:VEVENT
DTSTART;TZID=America/New_York:20260425T203000
DTEND;TZID=America/New_York:20260425T213000
DTSTAMP:20260421T183638
CREATED:20260420T195227Z
LAST-MODIFIED:20260420T195227Z
UID:37390-1777149000-1777152600@uo.com
SUMMARY:Chessy - Party Crashers!!
DESCRIPTION:There has been a rumor about a group of troublemakers planning to crash a party this weekend.  Gates will be provided at Brit and Luna banks.
URL:https://uo.com/event/chessy-party-crashers/
LOCATION:Chesapeake
CATEGORIES:EM Event
END:VEVENT
END:VCALENDAR