BEGIN:VCALENDAR
VERSION:2.0
PRODID:-//Ultima Online - ECPv5.16.4.1//NONSGML v1.0//EN
CALSCALE:GREGORIAN
METHOD:PUBLISH
X-WR-CALNAME:Ultima Online
X-ORIGINAL-URL:https://uo.com
X-WR-CALDESC:Events for Ultima Online
BEGIN:VTIMEZONE
TZID:America/New_York
BEGIN:DAYLIGHT
TZOFFSETFROM:-0500
TZOFFSETTO:-0400
TZNAME:EDT
DTSTART:20170312T070000
END:DAYLIGHT
BEGIN:STANDARD
TZOFFSETFROM:-0400
TZOFFSETTO:-0500
TZNAME:EST
DTSTART:20171105T060000
END:STANDARD
END:VTIMEZONE
BEGIN:VEVENT
DTSTART;TZID=America/New_York:20171022T210000
DTEND;TZID=America/New_York:20171022T213000
DTSTAMP:20260422T072521
CREATED:20171012T204909Z
LAST-MODIFIED:20171012T204909Z
UID:15065-1508706000-1508707800@uo.com
SUMMARY:Chessy – The King’s Assembly
DESCRIPTION:
URL:https://uo.com/event/chessy-the-kings-assembly-2/
LOCATION:Blackthorn Castle meeting room
CATEGORIES:EM Event
END:VEVENT
END:VCALENDAR