BEGIN:VCALENDAR
VERSION:2.0
PRODID:-//Ultima Online - ECPv5.16.4.1//NONSGML v1.0//EN
CALSCALE:GREGORIAN
METHOD:PUBLISH
X-WR-CALNAME:Ultima Online
X-ORIGINAL-URL:https://uo.com
X-WR-CALDESC:Events for Ultima Online
BEGIN:VTIMEZONE
TZID:Europe/Berlin
BEGIN:DAYLIGHT
TZOFFSETFROM:+0100
TZOFFSETTO:+0200
TZNAME:CEST
DTSTART:20170326T010000
END:DAYLIGHT
BEGIN:STANDARD
TZOFFSETFROM:+0200
TZOFFSETTO:+0100
TZNAME:CET
DTSTART:20171029T010000
END:STANDARD
END:VTIMEZONE
BEGIN:VEVENT
DTSTART;TZID=Europe/Berlin:20170814T200000
DTEND;TZID=Europe/Berlin:20170814T210000
DTSTAMP:20260422T103011
CREATED:20170811T074257Z
LAST-MODIFIED:20170811T074257Z
UID:14512-1502740800-1502744400@uo.com
SUMMARY:Developer Meet & Greet - Drachenfels
DESCRIPTION:Developer Meet & Greet on Drachenfels at 8:00pm CEST (UTC+2)\,\nCastle Blackthorn\, throne room \nDeveloper Meet & Greet auf Drachenfels um 20:00 Uhr CEST\,\nCastle Blackthorn\, im Thronsaal
URL:https://uo.com/event/developer-meet-greet-drachenfels/
LOCATION:Drachenfels
CATEGORIES:Developer Event
END:VEVENT
END:VCALENDAR