BEGIN:VCALENDAR
VERSION:2.0
PRODID:-//Ultima Online - ECPv5.16.4.1//NONSGML v1.0//EN
CALSCALE:GREGORIAN
METHOD:PUBLISH
X-WR-CALNAME:Ultima Online
X-ORIGINAL-URL:https://uo.com
X-WR-CALDESC:Events for Ultima Online
BEGIN:VTIMEZONE
TZID:Europe/Berlin
BEGIN:DAYLIGHT
TZOFFSETFROM:+0100
TZOFFSETTO:+0200
TZNAME:CEST
DTSTART:20240331T010000
END:DAYLIGHT
BEGIN:STANDARD
TZOFFSETFROM:+0200
TZOFFSETTO:+0100
TZNAME:CET
DTSTART:20241027T010000
END:STANDARD
END:VTIMEZONE
BEGIN:VEVENT
DTSTART;TZID=Europe/Berlin:20240516T203000
DTEND;TZID=Europe/Berlin:20240516T213000
DTSTAMP:20260422T225456
CREATED:20240509T103232Z
LAST-MODIFIED:20240509T103232Z
UID:31857-1715891400-1715895000@uo.com
SUMMARY:Drachenfels: A tale from... | Eine Geschichte von... (XXVII)
DESCRIPTION:Time: 8:30pm CEST (UTC+2)\nEvent: A tale from… the truth! (Attention\, it could be a bit dangerous…)\nLocation: “EM Tales” chat channel.\nNote If you would like to participate in this event\, log into the “EM Tales” chat channel. Hear what’s going on out there in the world and head out for a new adventure! \n\nZeit: 20:30 Uhr CEST (UTC+2)\nEvent: Eine Geschichte… von der Wahrheit! (Achtung\, es könnte etwas gefährlich werden…) \nOrt: “EM Tales” Chatkanal.\nHinweis: Wenn Ihr an dieser Veranstaltung teilnehmen möchtet\, loggt euch in den “EM Tales” Chatkanal ein. Hört\, was da draußen in der Welt vor sich geht und begebt euch auf ein neues Abenteuer!
URL:https://uo.com/event/drachenfels-a-tale-from-eine-geschichte-von-xxvii/
LOCATION:Drachenfels
CATEGORIES:EM Event
END:VEVENT
END:VCALENDAR