BEGIN:VCALENDAR
VERSION:2.0
PRODID:-//Ultima Online - ECPv5.16.4.1//NONSGML v1.0//EN
CALSCALE:GREGORIAN
METHOD:PUBLISH
X-WR-CALNAME:Ultima Online
X-ORIGINAL-URL:https://uo.com
X-WR-CALDESC:Events for Ultima Online
BEGIN:VTIMEZONE
TZID:Europe/Berlin
BEGIN:DAYLIGHT
TZOFFSETFROM:+0100
TZOFFSETTO:+0200
TZNAME:CEST
DTSTART:20190331T010000
END:DAYLIGHT
BEGIN:STANDARD
TZOFFSETFROM:+0200
TZOFFSETTO:+0100
TZNAME:CET
DTSTART:20191027T010000
END:STANDARD
END:VTIMEZONE
BEGIN:VEVENT
DTSTART;TZID=Europe/Berlin:20191015T203000
DTEND;TZID=Europe/Berlin:20191015T213000
DTSTAMP:20260423T222118
CREATED:20191006T104730Z
LAST-MODIFIED:20191006T104730Z
UID:21014-1571171400-1571175000@uo.com
SUMMARY:Drachenfels: All is not well! | Alles ist nicht gut! (RP/LoF)
DESCRIPTION:Time: 8:30pm CEST (UTC+2).\nMini RP/LoF Event: All is not well!\nLocation: Castle Blackthorn\, Britain\, Trammel \n\nZeit: 20:30 Uhr CEST (UTC+2).\nMini RP/LoF Event: Alles ist nicht gut!\nOrt: Castle Blackthorn\, Britain\, Trammel
URL:https://uo.com/event/drachenfels-all-is-not-well-alles-ist-nicht-gut-rp-lof/
LOCATION:Drachenfels
CATEGORIES:EM Event
END:VEVENT
END:VCALENDAR