BEGIN:VCALENDAR
VERSION:2.0
PRODID:-//Ultima Online - ECPv5.16.4.1//NONSGML v1.0//EN
CALSCALE:GREGORIAN
METHOD:PUBLISH
X-WR-CALNAME:Ultima Online
X-ORIGINAL-URL:https://uo.com
X-WR-CALDESC:Events for Ultima Online
BEGIN:VTIMEZONE
TZID:Europe/Berlin
BEGIN:DAYLIGHT
TZOFFSETFROM:+0100
TZOFFSETTO:+0200
TZNAME:CEST
DTSTART:20230326T010000
END:DAYLIGHT
BEGIN:STANDARD
TZOFFSETFROM:+0200
TZOFFSETTO:+0100
TZNAME:CET
DTSTART:20231029T010000
END:STANDARD
END:VTIMEZONE
BEGIN:VEVENT
DTSTART;TZID=Europe/Berlin:20230131T203000
DTEND;TZID=Europe/Berlin:20230131T213000
DTSTAMP:20260423T100839
CREATED:20230112T172924Z
LAST-MODIFIED:20230112T172924Z
UID:28956-1675197000-1675200600@uo.com
SUMMARY:Drachenfels: Belitta
DESCRIPTION:Time: 8:30pm CET (UTC+1)\nEvent: Belitta\nLocation: EM Hall\, Britain\, Trammel \n\nZeit: 20:30 Uhr CET (UTC+1)\nEvent: Belitta\nOrt: EM Halle\, Britain\, Trammel
URL:https://uo.com/event/drachenfels-belitta/
LOCATION:Drachenfels
CATEGORIES:EM Event
END:VEVENT
END:VCALENDAR