BEGIN:VCALENDAR
VERSION:2.0
PRODID:-//Ultima Online - ECPv5.16.4.1//NONSGML v1.0//EN
CALSCALE:GREGORIAN
METHOD:PUBLISH
X-WR-CALNAME:Ultima Online
X-ORIGINAL-URL:https://uo.com
X-WR-CALDESC:Events for Ultima Online
BEGIN:VTIMEZONE
TZID:Europe/Berlin
BEGIN:DAYLIGHT
TZOFFSETFROM:+0100
TZOFFSETTO:+0200
TZNAME:CEST
DTSTART:20220327T010000
END:DAYLIGHT
BEGIN:STANDARD
TZOFFSETFROM:+0200
TZOFFSETTO:+0100
TZNAME:CET
DTSTART:20221030T010000
END:STANDARD
END:VTIMEZONE
BEGIN:VEVENT
DTSTART;TZID=Europe/Berlin:20220222T203000
DTEND;TZID=Europe/Berlin:20220222T213000
DTSTAMP:20260422T120724
CREATED:20220203T110112Z
LAST-MODIFIED:20220203T110112Z
UID:26873-1645561800-1645565400@uo.com
SUMMARY:Drachenfels: Besotted | Betört
DESCRIPTION:Time: 8:30pm CET (UTC+1)\nMain Event: Besotted\nLocation: EM Hall\, Britain\, Trammel \n\nZeit: 20:30 Uhr CET (UTC+1)\nHaupt Event: Betört\nOrt: EM Halle\, Britain\, Trammel
URL:https://uo.com/event/drachenfels-besotted-betort/
LOCATION:Drachenfels
CATEGORIES:EM Event
END:VEVENT
END:VCALENDAR