BEGIN:VCALENDAR
VERSION:2.0
PRODID:-//Ultima Online - ECPv5.16.4.1//NONSGML v1.0//EN
CALSCALE:GREGORIAN
METHOD:PUBLISH
X-WR-CALNAME:Ultima Online
X-ORIGINAL-URL:https://uo.com
X-WR-CALDESC:Events for Ultima Online
BEGIN:VTIMEZONE
TZID:Europe/Berlin
BEGIN:DAYLIGHT
TZOFFSETFROM:+0100
TZOFFSETTO:+0200
TZNAME:CEST
DTSTART:20250330T010000
END:DAYLIGHT
BEGIN:STANDARD
TZOFFSETFROM:+0200
TZOFFSETTO:+0100
TZNAME:CET
DTSTART:20251026T010000
END:STANDARD
END:VTIMEZONE
BEGIN:VEVENT
DTSTART;TZID=Europe/Berlin:20250930T203000
DTEND;TZID=Europe/Berlin:20250930T213000
DTSTAMP:20260419T094008
CREATED:20250917T095249Z
LAST-MODIFIED:20250917T095249Z
UID:35771-1759264200-1759267800@uo.com
SUMMARY:Drachenfels: Bloodmoon | Blutmond
DESCRIPTION:Time: 8:30pm CEST (UTC+2)\nEvent: Bloodmoon\nLocation: EM Hall\, Britain\, Trammel \n\nZeit: 20:30 Uhr CEST (UTC+2)\nEvent: Blutmond\nOrt: EM Halle\, Britain\, Trammel
URL:https://uo.com/event/drachenfels-bloodmoon-blutmond/
LOCATION:Drachenfels
CATEGORIES:EM Event
END:VEVENT
END:VCALENDAR