BEGIN:VCALENDAR
VERSION:2.0
PRODID:-//Ultima Online - ECPv5.16.4.1//NONSGML v1.0//EN
CALSCALE:GREGORIAN
METHOD:PUBLISH
X-WR-CALNAME:Ultima Online
X-ORIGINAL-URL:https://uo.com
X-WR-CALDESC:Events for Ultima Online
BEGIN:VTIMEZONE
TZID:Europe/Berlin
BEGIN:DAYLIGHT
TZOFFSETFROM:+0100
TZOFFSETTO:+0200
TZNAME:CEST
DTSTART:20180325T010000
END:DAYLIGHT
BEGIN:STANDARD
TZOFFSETFROM:+0200
TZOFFSETTO:+0100
TZNAME:CET
DTSTART:20181028T010000
END:STANDARD
END:VTIMEZONE
BEGIN:VEVENT
DTSTART;TZID=Europe/Berlin:20181118T203000
DTEND;TZID=Europe/Berlin:20181118T213000
DTSTAMP:20260421T104245
CREATED:20181101T133111Z
LAST-MODIFIED:20181101T133111Z
UID:18147-1542573000-1542576600@uo.com
SUMMARY:Drachenfels: Blōtmōnaþ
DESCRIPTION:Time: 8:30pm CET (UTC+1).  Location: EM Hall\, Britain\, Trammel.\nMain Event: Welcome to Blōtmōnaþ or the “Bloth Month”. Lieutenant Gelbendil will initiate you into the secrets of this special month – with a short theoretical and a longer… uh\, physical part. \nZeit: 20:30 Uhr CET (UTC+1). Ort: EM Hall\, Britain\, Trammel.\nHaupt Event: Willkommen zum Blōtmōnaþ oder auch der “Blutmonat” genannt. Lieutenant Gelbendil wird euch in die Geheimnisse dieses speziellen Monats einweihen – mit einem kurzen theoretischen\, sowie einem längeren… äh\, physischen Teil.
URL:https://uo.com/event/drachenfels-blotmonath/
LOCATION:Drachenfels
CATEGORIES:EM Event
END:VEVENT
END:VCALENDAR