BEGIN:VCALENDAR
VERSION:2.0
PRODID:-//Ultima Online - ECPv5.16.4.1//NONSGML v1.0//EN
CALSCALE:GREGORIAN
METHOD:PUBLISH
X-WR-CALNAME:Ultima Online
X-ORIGINAL-URL:https://uo.com
X-WR-CALDESC:Events for Ultima Online
BEGIN:VTIMEZONE
TZID:Europe/Berlin
BEGIN:DAYLIGHT
TZOFFSETFROM:+0100
TZOFFSETTO:+0200
TZNAME:CEST
DTSTART:20220327T010000
END:DAYLIGHT
BEGIN:STANDARD
TZOFFSETFROM:+0200
TZOFFSETTO:+0100
TZNAME:CET
DTSTART:20221030T010000
END:STANDARD
END:VTIMEZONE
BEGIN:VEVENT
DTSTART;TZID=Europe/Berlin:20220823T203000
DTEND;TZID=Europe/Berlin:20220823T213000
DTSTAMP:20260424T113952
CREATED:20220805T105200Z
LAST-MODIFIED:20220805T105200Z
UID:28021-1661286600-1661290200@uo.com
SUMMARY:Drachenfels: Champion Night | Champion Nacht
DESCRIPTION:Time: 8:30pm CEST (UTC+2)\nMini Event: Champion Night (there will be a special summer champion)\nLocation: EM Reward Hall\, Malas (Teleporter at EM Hall in Britain\, Trammel) \n\nZeit: 20:30 Uhr CEST (UTC+2)\nMini Event: Champion Nacht (es wird einen speziellen Sommer-Champion geben)\nOrt:  EM Reward Halle\, Malas (Teleporter bei der EM Hall in Britain\, Trammel)
URL:https://uo.com/event/drachenfels-champion-night-champion-nacht/
LOCATION:Drachenfels
CATEGORIES:EM Event
END:VEVENT
END:VCALENDAR