BEGIN:VCALENDAR
VERSION:2.0
PRODID:-//Ultima Online - ECPv5.16.4.1//NONSGML v1.0//EN
CALSCALE:GREGORIAN
METHOD:PUBLISH
X-WR-CALNAME:Ultima Online
X-ORIGINAL-URL:https://uo.com
X-WR-CALDESC:Events for Ultima Online
BEGIN:VTIMEZONE
TZID:Europe/Berlin
BEGIN:DAYLIGHT
TZOFFSETFROM:+0100
TZOFFSETTO:+0200
TZNAME:CEST
DTSTART:20240331T010000
END:DAYLIGHT
BEGIN:STANDARD
TZOFFSETFROM:+0200
TZOFFSETTO:+0100
TZNAME:CET
DTSTART:20241027T010000
END:STANDARD
END:VTIMEZONE
BEGIN:VEVENT
DTSTART;TZID=Europe/Berlin:20240118T203000
DTEND;TZID=Europe/Berlin:20240118T213000
DTSTAMP:20260422T063941
CREATED:20240106T120939Z
LAST-MODIFIED:20240106T120939Z
UID:31054-1705609800-1705613400@uo.com
SUMMARY:Drachenfels: EM Meet & Greet
DESCRIPTION:Time: 8:30pm CET (UTC+1)\nEvent: EM Meet & Greet with EM Lyraa and annual outlook\, EM Museum rebuilding etc.\nLocation: EM Reward Museum\, Malas – Gates will be provided\n \n\nZeit: 20:30 Uhr CET (UTC+1)\nEvent: EM Meet & Greet mit EM Lyraa und Jahresausblick\, EM Museum Umbau etc.\nOrt: EM Reward Museum\, Malas – Mondtore werden bereit gestellt 
URL:https://uo.com/event/drachenfels-em-meet-greet-2/
LOCATION:Drachenfels
CATEGORIES:EM Event
END:VEVENT
END:VCALENDAR