BEGIN:VCALENDAR
VERSION:2.0
PRODID:-//Ultima Online - ECPv5.16.4.1//NONSGML v1.0//EN
CALSCALE:GREGORIAN
METHOD:PUBLISH
X-WR-CALNAME:Ultima Online
X-ORIGINAL-URL:https://uo.com
X-WR-CALDESC:Events for Ultima Online
BEGIN:VTIMEZONE
TZID:Europe/Berlin
BEGIN:DAYLIGHT
TZOFFSETFROM:+0100
TZOFFSETTO:+0200
TZNAME:CEST
DTSTART:20230326T010000
END:DAYLIGHT
BEGIN:STANDARD
TZOFFSETFROM:+0200
TZOFFSETTO:+0100
TZNAME:CET
DTSTART:20231029T010000
END:STANDARD
END:VTIMEZONE
BEGIN:VEVENT
DTSTART;TZID=Europe/Berlin:20230316T203000
DTEND;TZID=Europe/Berlin:20230316T213000
DTSTAMP:20260422T225456
CREATED:20230310T142212Z
LAST-MODIFIED:20230310T142231Z
UID:29376-1678998600-1679002200@uo.com
SUMMARY:Drachenfels: Governor's Meeting | Treffen
DESCRIPTION:Time: 8:30pm CET (UTC+1)\nEvent: Governor’s meeting\, all current governors should attend. Please send me a message if you can not be there. Interested governors may apply this evening (New Magincia is vacant). Roleplayers and visitors are most welcome!\nLocation: Castle Blackthorn\, Britain\, Trammel – Governor’s room \n\nZeit: 20:30 Uhr CET (UTC+1)\nEvent: Gouvernor’s Treffen\, alle Gouverneure sollten anwesend sein. Bitte sendet mir eine Nachricht\, wenn ihr nicht dabei sein könnt. Interessierte Gouverneure können sich an diesem Abend bewerben (New Magincia ist vakant).  Rollenspieler und Besucher sind herzlich willkommen!\nOrt: Castle Blackthorn\, Britain\, Trammel – Governor’s Saal
URL:https://uo.com/event/drachenfels-governors-meeting-treffen-2/
LOCATION:Drachenfels
CATEGORIES:EM Event
END:VEVENT
END:VCALENDAR