BEGIN:VCALENDAR
VERSION:2.0
PRODID:-//Ultima Online - ECPv5.16.4.1//NONSGML v1.0//EN
CALSCALE:GREGORIAN
METHOD:PUBLISH
X-WR-CALNAME:Ultima Online
X-ORIGINAL-URL:https://uo.com
X-WR-CALDESC:Events for Ultima Online
BEGIN:VTIMEZONE
TZID:Europe/Berlin
BEGIN:DAYLIGHT
TZOFFSETFROM:+0100
TZOFFSETTO:+0200
TZNAME:CEST
DTSTART:20170326T010000
END:DAYLIGHT
BEGIN:STANDARD
TZOFFSETFROM:+0200
TZOFFSETTO:+0100
TZNAME:CET
DTSTART:20171029T010000
END:STANDARD
END:VTIMEZONE
BEGIN:VEVENT
DTSTART;TZID=Europe/Berlin:20171119T203000
DTEND;TZID=Europe/Berlin:20171119T213000
DTSTAMP:20260421T055513
CREATED:20171101T070212Z
LAST-MODIFIED:20171101T070212Z
UID:15173-1511123400-1511127000@uo.com
SUMMARY:Drachenfels: Hello\, We'en and | und Martini!
DESCRIPTION:Time: 8:30pm CET (UTC+1).  Location: Counselor’s Hall\, Trammel.\nMain Event: Some strange beings were spotted in the damp\, dark nights near the towns – Kalya Sesha would like to solve this puzzle with you! \nZeit: 20:30 Uhr CET (UTC+1). Ort: Counselor’s Hall\, Trammel.\nHaupt Event: Komische Wesen wurden in den feuchten\, dunklen Nächten in der Nähe der Städte gesehen – Kalya Sesha möchte dieses Puzzle gerne mit eurer Hilfe lösen!
URL:https://uo.com/event/drachenfels-hello-ween-and-und-martini/
LOCATION:Drachenfels
CATEGORIES:EM Event
END:VEVENT
END:VCALENDAR