BEGIN:VCALENDAR
VERSION:2.0
PRODID:-//Ultima Online - ECPv5.16.4.1//NONSGML v1.0//EN
CALSCALE:GREGORIAN
METHOD:PUBLISH
X-WR-CALNAME:Ultima Online
X-ORIGINAL-URL:https://uo.com
X-WR-CALDESC:Events for Ultima Online
BEGIN:VTIMEZONE
TZID:Europe/Berlin
BEGIN:DAYLIGHT
TZOFFSETFROM:+0100
TZOFFSETTO:+0200
TZNAME:CEST
DTSTART:20170326T010000
END:DAYLIGHT
BEGIN:STANDARD
TZOFFSETFROM:+0200
TZOFFSETTO:+0100
TZNAME:CET
DTSTART:20171029T010000
END:STANDARD
END:VTIMEZONE
BEGIN:VEVENT
DTSTART;TZID=Europe/Berlin:20170210T203000
DTEND;TZID=Europe/Berlin:20170210T213000
DTSTAMP:20260421T042027
CREATED:20170203T114719Z
LAST-MODIFIED:20170203T114740Z
UID:12849-1486758600-1486762200@uo.com
SUMMARY:Drachenfels: Lady Bee's Journal (Part I / Teil I)
DESCRIPTION:Time: 8:30pm CET (UTC+1).  Location: Counselor’s Hall\, Britain\, Trammel.\nMain HoF (RP) Event: Garina Mamba checked last year’s Journal from Lady Bee again and found out she grew some special kind of roses. But where do they grow? \nZeit: 20:30 Uhr CET (UTC+1). Ort: Counselor’s Hall\, Britain\, Trammel.\nHauptevent HoF (RP): Garina Mamba hat Lady Bee’s Journal vom letzten Jahr nochmals unter die Lupe genommen und entdeckt\, dass sie einige sehr spezielle Rosenarten gezüchtet hat. Aber wo wachsen sie bloss?
URL:https://uo.com/event/drachenfels-lady-bees-journal-part-i-teil-i/
LOCATION:Drachenfels
CATEGORIES:EM Event
END:VEVENT
END:VCALENDAR