BEGIN:VCALENDAR
VERSION:2.0
PRODID:-//Ultima Online - ECPv5.16.4.1//NONSGML v1.0//EN
CALSCALE:GREGORIAN
METHOD:PUBLISH
X-WR-CALNAME:Ultima Online
X-ORIGINAL-URL:https://uo.com
X-WR-CALDESC:Events for Ultima Online
BEGIN:VTIMEZONE
TZID:Europe/Berlin
BEGIN:DAYLIGHT
TZOFFSETFROM:+0100
TZOFFSETTO:+0200
TZNAME:CEST
DTSTART:20170326T010000
END:DAYLIGHT
BEGIN:STANDARD
TZOFFSETFROM:+0200
TZOFFSETTO:+0100
TZNAME:CET
DTSTART:20171029T010000
END:STANDARD
END:VTIMEZONE
BEGIN:VEVENT
DTSTART;TZID=Europe/Berlin:20170723T203000
DTEND;TZID=Europe/Berlin:20170723T213000
DTSTAMP:20260422T103417
CREATED:20170708T094451Z
LAST-MODIFIED:20170708T094451Z
UID:14244-1500841800-1500845400@uo.com
SUMMARY:Drachenfels: Summer Wine | Sommerwein
DESCRIPTION:Time: 8:30pm CEST (UTC+2).  Location: Castle Blackthorn\, Trammel.\nMain Event: Vamie Joliva is in trouble – as the royal wine expert noticed\, his royal wine cellar is getting pretty fast empty\, mostly because of the nice weather but also because of King Blackthorn. But this cannot be the only reason. Something else is drawing liquids from that cellar! \nZeit: 20:30 Uhr CEST (UTC+2). Ort: Castle Blackthorn\, Trammel.\nHaupt Event: Vamie Joliva hat Probleme – als Königlicher Weinexperte hat er bemerkt\, dass sein Königlicher Weinkeller sehr schnell leerer wird\, hauptsächlich wegen dem schönen Wetter aber auch wegen König Blackthorn. Aber das kann nicht der einzige Grund sein. Etwas anderes zieht Flüssigkeit aus diesem Keller ab!
URL:https://uo.com/event/drachenfels-summer-wine-sommerwein/
LOCATION:Drachenfels
CATEGORIES:EM Event
END:VEVENT
END:VCALENDAR