BEGIN:VCALENDAR
VERSION:2.0
PRODID:-//Ultima Online - ECPv5.16.4.1//NONSGML v1.0//EN
CALSCALE:GREGORIAN
METHOD:PUBLISH
X-WR-CALNAME:Ultima Online
X-ORIGINAL-URL:https://uo.com
X-WR-CALDESC:Events for Ultima Online
BEGIN:VTIMEZONE
TZID:Europe/Berlin
BEGIN:DAYLIGHT
TZOFFSETFROM:+0100
TZOFFSETTO:+0200
TZNAME:CEST
DTSTART:20170326T010000
END:DAYLIGHT
BEGIN:STANDARD
TZOFFSETFROM:+0200
TZOFFSETTO:+0100
TZNAME:CET
DTSTART:20171029T010000
END:STANDARD
END:VTIMEZONE
BEGIN:VEVENT
DTSTART;TZID=Europe/Berlin:20171018T203000
DTEND;TZID=Europe/Berlin:20171018T213000
DTSTAMP:20260422T054953
CREATED:20171001T120010Z
LAST-MODIFIED:20171101T064456Z
UID:14914-1508358600-1508362200@uo.com
SUMMARY:Drachenfels: The Legacy of the Titans | Das Erbe der Titanen
DESCRIPTION:Time: 8:30pm CEST (UTC+2).  Location: Counselor’s Hall\, Trammel.\nMain Event: Meet Mariah the Mage\, and hear what she has discovered after the Titans were forced out of Sosaria. \nZeit: 20:30 Uhr CEST (UTC+2). Ort: Counselor’s Hall\, Trammel.\nHaupt Event: Trefft Mariah die Magierin\, und hört\, was sie entdeckt hat\, nachdem die Titanen aus Sosaria vertrieben worden sind.
URL:https://uo.com/event/drachenfels-the-legacy-of-the-titans-das-erbe-der-titanen/
LOCATION:Drachenfels
CATEGORIES:EM Event
END:VEVENT
END:VCALENDAR