BEGIN:VCALENDAR
VERSION:2.0
PRODID:-//Ultima Online - ECPv5.16.4.1//NONSGML v1.0//EN
CALSCALE:GREGORIAN
METHOD:PUBLISH
X-WR-CALNAME:Ultima Online
X-ORIGINAL-URL:https://uo.com
X-WR-CALDESC:Events for Ultima Online
BEGIN:VTIMEZONE
TZID:Europe/Berlin
BEGIN:DAYLIGHT
TZOFFSETFROM:+0100
TZOFFSETTO:+0200
TZNAME:CEST
DTSTART:20220327T010000
END:DAYLIGHT
BEGIN:STANDARD
TZOFFSETFROM:+0200
TZOFFSETTO:+0100
TZNAME:CET
DTSTART:20221030T010000
END:STANDARD
END:VTIMEZONE
BEGIN:VEVENT
DTSTART;TZID=Europe/Berlin:20221110T203000
DTEND;TZID=Europe/Berlin:20221110T213000
DTSTAMP:20260423T214811
CREATED:20221102T082955Z
LAST-MODIFIED:20221102T082955Z
UID:28518-1668112200-1668115800@uo.com
SUMMARY:Drachenfels: Treasures! Schätze!
DESCRIPTION:Time: 8:30pm CET (UTC+1)\nMini Event: Gray robe day! (Yes\, this means some Scalis net toss and/or T-Hunt just for fun)\nLocation: Meet at the EM Museum (a teleporter can be found at the EM Hall in Britain) \n\nZeit: 20:30 Uhr CET (UTC+1)\nMini Event: Graue Roben Tag! (Ja\, das bedeutet ein paar Scalis-Netzwürfe und/oder T-Hunt zum Spaß)\nOrt: Treffpunkt beim EM Museum (ein Teleporter findet sich bei der EM-Halle in Britain)
URL:https://uo.com/event/drachenfels-treasures-schatze-7/
LOCATION:Drachenfels
CATEGORIES:EM Event
END:VEVENT
END:VCALENDAR